BEGIN:VCALENDAR
VERSION:2.0
PRODID:-//C.O.Chennevières Karate Shotokan Ohshima - ECPv6.15.20//NONSGML v1.0//EN
CALSCALE:GREGORIAN
METHOD:PUBLISH
X-ORIGINAL-URL:https://www.shotokan-ohshima.fr
X-WR-CALDESC:Évènements pour C.O.Chennevières Karate Shotokan Ohshima
REFRESH-INTERVAL;VALUE=DURATION:PT1H
X-Robots-Tag:noindex
X-PUBLISHED-TTL:PT1H
BEGIN:VTIMEZONE
TZID:Europe/Paris
BEGIN:DAYLIGHT
TZOFFSETFROM:+0100
TZOFFSETTO:+0200
TZNAME:CEST
DTSTART:20210328T010000
END:DAYLIGHT
BEGIN:STANDARD
TZOFFSETFROM:+0200
TZOFFSETTO:+0100
TZNAME:CET
DTSTART:20211031T010000
END:STANDARD
BEGIN:DAYLIGHT
TZOFFSETFROM:+0100
TZOFFSETTO:+0200
TZNAME:CEST
DTSTART:20220327T010000
END:DAYLIGHT
BEGIN:STANDARD
TZOFFSETFROM:+0200
TZOFFSETTO:+0100
TZNAME:CET
DTSTART:20221030T010000
END:STANDARD
BEGIN:DAYLIGHT
TZOFFSETFROM:+0100
TZOFFSETTO:+0200
TZNAME:CEST
DTSTART:20230326T010000
END:DAYLIGHT
BEGIN:STANDARD
TZOFFSETFROM:+0200
TZOFFSETTO:+0100
TZNAME:CET
DTSTART:20231029T010000
END:STANDARD
END:VTIMEZONE
BEGIN:VEVENT
DTSTART;TZID=Europe/Paris:20220929T050000
DTEND;TZID=Europe/Paris:20221002T090000
DTSTAMP:20260423T110312
CREATED:20220729T165944Z
LAST-MODIFIED:20220914T075312Z
UID:2908-1664427600-1664701200@www.shotokan-ohshima.fr
SUMMARY:Stage spécial de l'Ouest
DESCRIPTION:Arrivée le 28 septembre au soir \nStage dirigé par Sophie LeBas \nF Stage Spécial 2022 du 29-9 au 2-10 La Frillière-Grand Ouest
URL:https://www.shotokan-ohshima.fr/event/stage-special-de-louest
LOCATION:Dojo Ten No Mon\, La Frillière\, Genillé\, 37460\, France
END:VEVENT
END:VCALENDAR