BEGIN:VCALENDAR
VERSION:2.0
PRODID:-//C.O.Chennevières Karate Shotokan Ohshima - ECPv6.15.20//NONSGML v1.0//EN
CALSCALE:GREGORIAN
METHOD:PUBLISH
X-WR-CALNAME:C.O.Chennevières Karate Shotokan Ohshima
X-ORIGINAL-URL:https://www.shotokan-ohshima.fr
X-WR-CALDESC:Évènements pour C.O.Chennevières Karate Shotokan Ohshima
REFRESH-INTERVAL;VALUE=DURATION:PT1H
X-Robots-Tag:noindex
X-PUBLISHED-TTL:PT1H
BEGIN:VTIMEZONE
TZID:Europe/Paris
BEGIN:DAYLIGHT
TZOFFSETFROM:+0100
TZOFFSETTO:+0200
TZNAME:CEST
DTSTART:20210328T010000
END:DAYLIGHT
BEGIN:STANDARD
TZOFFSETFROM:+0200
TZOFFSETTO:+0100
TZNAME:CET
DTSTART:20211031T010000
END:STANDARD
BEGIN:DAYLIGHT
TZOFFSETFROM:+0100
TZOFFSETTO:+0200
TZNAME:CEST
DTSTART:20220327T010000
END:DAYLIGHT
BEGIN:STANDARD
TZOFFSETFROM:+0200
TZOFFSETTO:+0100
TZNAME:CET
DTSTART:20221030T010000
END:STANDARD
BEGIN:DAYLIGHT
TZOFFSETFROM:+0100
TZOFFSETTO:+0200
TZNAME:CEST
DTSTART:20230326T010000
END:DAYLIGHT
BEGIN:STANDARD
TZOFFSETFROM:+0200
TZOFFSETTO:+0100
TZNAME:CET
DTSTART:20231029T010000
END:STANDARD
END:VTIMEZONE
BEGIN:VEVENT
DTSTART;TZID=Europe/Paris:20221203T100000
DTEND;TZID=Europe/Paris:20221204T120000
DTSTAMP:20260421T181600
CREATED:20221026T083442Z
LAST-MODIFIED:20221114T090345Z
UID:3046-1670061600-1670155200@www.shotokan-ohshima.fr
SUMMARY:Stage technique (Landerneau)
DESCRIPTION:Dirigé par Richard Hiegel \nfiche stage 2022-12-3&4 Landerneau Hiegel
URL:https://www.shotokan-ohshima.fr/event/stage-technique-landerneau
LOCATION:La Fabrik\, rue saint Ernel\, Landerneau\, 29800\, France
ATTACH;FMTTYPE=image/jpeg:https://www.shotokan-ohshima.fr/wp-content/uploads/2022/10/bandeau_StageHiegel.jpg
END:VEVENT
BEGIN:VEVENT
DTSTART;VALUE=DATE:20221204
DTEND;VALUE=DATE:20221205
DTSTAMP:20260421T181600
CREATED:20220914T081421Z
LAST-MODIFIED:20230207T085429Z
UID:2971-1670112000-1670198399@www.shotokan-ohshima.fr
SUMMARY:Compétition FFK 94 : championnat départemental Kumite Minimes - Cadets - Juniors - Seniors
DESCRIPTION:
URL:https://www.shotokan-ohshima.fr/event/competition-ffk-94-championnat-departemental-kumite-minimes-cadets-juniors-seniors
END:VEVENT
END:VCALENDAR