BEGIN:VCALENDAR
VERSION:2.0
PRODID:-//C.O.Chennevières Karate Shotokan Ohshima - ECPv6.15.20//NONSGML v1.0//EN
CALSCALE:GREGORIAN
METHOD:PUBLISH
X-WR-CALNAME:C.O.Chennevières Karate Shotokan Ohshima
X-ORIGINAL-URL:https://www.shotokan-ohshima.fr
X-WR-CALDESC:Évènements pour C.O.Chennevières Karate Shotokan Ohshima
REFRESH-INTERVAL;VALUE=DURATION:PT1H
X-Robots-Tag:noindex
X-PUBLISHED-TTL:PT1H
BEGIN:VTIMEZONE
TZID:Europe/Paris
BEGIN:DAYLIGHT
TZOFFSETFROM:+0100
TZOFFSETTO:+0200
TZNAME:CEST
DTSTART:20220327T010000
END:DAYLIGHT
BEGIN:STANDARD
TZOFFSETFROM:+0200
TZOFFSETTO:+0100
TZNAME:CET
DTSTART:20221030T010000
END:STANDARD
BEGIN:DAYLIGHT
TZOFFSETFROM:+0100
TZOFFSETTO:+0200
TZNAME:CEST
DTSTART:20230326T010000
END:DAYLIGHT
BEGIN:STANDARD
TZOFFSETFROM:+0200
TZOFFSETTO:+0100
TZNAME:CET
DTSTART:20231029T010000
END:STANDARD
BEGIN:DAYLIGHT
TZOFFSETFROM:+0100
TZOFFSETTO:+0200
TZNAME:CEST
DTSTART:20240331T010000
END:DAYLIGHT
BEGIN:STANDARD
TZOFFSETFROM:+0200
TZOFFSETTO:+0100
TZNAME:CET
DTSTART:20241027T010000
END:STANDARD
END:VTIMEZONE
BEGIN:VEVENT
DTSTART;TZID=Europe/Paris:20230205T100000
DTEND;TZID=Europe/Paris:20230205T120000
DTSTAMP:20260421T112052
CREATED:20221103T092333Z
LAST-MODIFIED:20230207T085415Z
UID:3142-1675591200-1675598400@www.shotokan-ohshima.fr
SUMMARY:Stage technique FFK 94 dirigé par Richard Hiegel
DESCRIPTION:Stage Départemental / Richard HIEGEL (7ème DAN) – Karaté Shotokan Ohshima \n 
URL:https://www.shotokan-ohshima.fr/event/stage-technique-ffk-94-dirige-par-richard-hiegel
LOCATION:Gymnase Pompidou\, 12 rue George Gaume\, Maisons-Alfort\, 94700\, France
ATTACH;FMTTYPE=image/jpeg:https://www.shotokan-ohshima.fr/wp-content/uploads/2022/10/bandeau_StageHiegel.jpg
END:VEVENT
END:VCALENDAR